BEGIN:VCALENDAR
VERSION:2.0
PRODID:-//Schachclub Moosburg - ECPv6.15.20//NONSGML v1.0//EN
CALSCALE:GREGORIAN
METHOD:PUBLISH
X-WR-CALNAME:Schachclub Moosburg
X-ORIGINAL-URL:https://scmoosburg.de
X-WR-CALDESC:Veranstaltungen für Schachclub Moosburg
REFRESH-INTERVAL;VALUE=DURATION:PT1H
X-Robots-Tag:noindex
X-PUBLISHED-TTL:PT1H
BEGIN:VTIMEZONE
TZID:Europe/Berlin
BEGIN:DAYLIGHT
TZOFFSETFROM:+0100
TZOFFSETTO:+0200
TZNAME:CEST
DTSTART:20250330T010000
END:DAYLIGHT
BEGIN:STANDARD
TZOFFSETFROM:+0200
TZOFFSETTO:+0100
TZNAME:CET
DTSTART:20251026T010000
END:STANDARD
BEGIN:DAYLIGHT
TZOFFSETFROM:+0100
TZOFFSETTO:+0200
TZNAME:CEST
DTSTART:20260329T010000
END:DAYLIGHT
BEGIN:STANDARD
TZOFFSETFROM:+0200
TZOFFSETTO:+0100
TZNAME:CET
DTSTART:20261025T010000
END:STANDARD
BEGIN:DAYLIGHT
TZOFFSETFROM:+0100
TZOFFSETTO:+0200
TZNAME:CEST
DTSTART:20270328T010000
END:DAYLIGHT
BEGIN:STANDARD
TZOFFSETFROM:+0200
TZOFFSETTO:+0100
TZNAME:CET
DTSTART:20271031T010000
END:STANDARD
END:VTIMEZONE
BEGIN:VEVENT
DTSTART;TZID=Europe/Berlin:20260428T180000
DTEND;TZID=Europe/Berlin:20260428T200000
DTSTAMP:20260423T134436
CREATED:20260322T180830Z
LAST-MODIFIED:20260322T180843Z
UID:1873-1777399200-1777406400@scmoosburg.de
SUMMARY:Trainigs-Abend für Moosburg II
DESCRIPTION:
URL:https://scmoosburg.de/event/trainigs-abend-fuer-moosburg-ii-_kopie-2
LOCATION:Schachclub Moosburg 1956 e.V.\, Am Mühlbachbogen 38 f\, Moosburg an der Isar\, Bayern\, 85368\, Deutschland
CATEGORIES:Training (Erwachsene),vereinsintern
END:VEVENT
BEGIN:VEVENT
DTSTART;TZID=Europe/Berlin:20260429T160000
DTEND;TZID=Europe/Berlin:20260429T173000
DTSTAMP:20260423T134436
CREATED:20260322T181018Z
LAST-MODIFIED:20260415T092708Z
UID:1877-1777478400-1777483800@scmoosburg.de
SUMMARY:Spielwiese
DESCRIPTION:
URL:https://scmoosburg.de/event/spielwiese-_kopie-2
LOCATION:Schachclub Moosburg 1956 e.V.\, Am Mühlbachbogen 38 f\, Moosburg an der Isar\, Bayern\, 85368\, Deutschland
CATEGORIES:vereinsintern
END:VEVENT
END:VCALENDAR